BEGIN:VCALENDAR
VERSION:2.0
PRODID:icalendar-ruby
CALSCALE:GREGORIAN
METHOD:PUBLISH
BEGIN:VEVENT
DTSTAMP:20260422T095809Z
UID:322-1374905@communityucc.net
DTSTART:20261216T233000Z
DTEND:20261217T003000Z
CLASS:PUBLIC
CREATED:20260415T102143
DESCRIPTION:
LAST-MODIFIED:20260415T102143
LOCATION:Library
SUMMARY:Sprirtual Council
URL;VALUE=URI:https://www.communityucc.net/events/sprirtual-council/2026-12
 -16
END:VEVENT
END:VCALENDAR
