BEGIN:VCALENDAR
VERSION:2.0
PRODID:icalendar-ruby
CALSCALE:GREGORIAN
METHOD:PUBLISH
BEGIN:VEVENT
DTSTAMP:20260420T135107Z
UID:321-1374916@communityucc.net
DTSTART:20261217T000000Z
DTEND:20261217T010000Z
CLASS:PUBLIC
CREATED:20260415T102301
DESCRIPTION:
LAST-MODIFIED:20260415T102301
LOCATION:Classroom 3 Upstairs
SUMMARY:Consistory
URL;VALUE=URI:https://www.communityucc.net/events/consistory--321/2026-12-1
 6
END:VEVENT
END:VCALENDAR
