BEGIN:VCALENDAR
VERSION:2.0
PRODID:icalendar-ruby
CALSCALE:GREGORIAN
METHOD:PUBLISH
BEGIN:VEVENT
DTSTAMP:20260421T134434Z
UID:337-1013694@communityucc.net
DTSTART:20260424T200000Z
DTEND:20260424T200000Z
CLASS:PUBLIC
CREATED:20260114T142544
DESCRIPTION:Candy land set up
LAST-MODIFIED:20260114T142544
LOCATION:
SUMMARY:Candyland 
URL;VALUE=URI:https://www.communityucc.net/events/candyland/2026-04-24
END:VEVENT
END:VCALENDAR
