BEGIN:VCALENDAR
VERSION:2.0
PRODID:icalendar-ruby
CALSCALE:GREGORIAN
METHOD:PUBLISH
BEGIN:VEVENT
DTSTAMP:20260421T151731Z
UID:338-1385207@communityucc.net
DTSTART:20260425T130000Z
DTEND:20260425T200000Z
CLASS:PUBLIC
CREATED:20260417T150139
DESCRIPTION:Come and play the game with your kids that you played as a kid 
 growing up. 
LAST-MODIFIED:20260417T150139
LOCATION:Fellowship Hall
SUMMARY:Candyland Live
URL;VALUE=URI:https://www.communityucc.net/events/candyland-live/2026-04-25
END:VEVENT
END:VCALENDAR
